BEGIN:VCALENDAR
VERSION:2.0
PRODID:-//spbstu.ru//ical//RU
NAME:Расписание
X-WR-CALNAME:Расписание
TIMEZONE-ID:Europe/Moscow
X-WR-TIMEZONE:Europe/Moscow
BEGIN:VEVENT
UID:qq7n@192.168.245.71:3006
SEQUENCE:0
DTSTAMP:20260425T031605Z
DTSTART:20251112T070000Z
DTEND:20251112T084000Z
SUMMARY:Экологические проблемы материаловедения
LOCATION:Хим. к. Прокатка1
END:VEVENT
BEGIN:VEVENT
UID:y40h@192.168.245.71:3006
SEQUENCE:0
DTSTAMP:20260425T031605Z
DTSTART:20251112T090000Z
DTEND:20251112T104000Z
SUMMARY:Экологические проблемы материаловедения
LOCATION:Хим. к. 55
END:VEVENT
BEGIN:VEVENT
UID:lzce@192.168.245.71:3006
SEQUENCE:0
DTSTAMP:20260425T031605Z
DTSTART:20251113T110000Z
DTEND:20251113T124000Z
SUMMARY:Экологические проблемы материаловедения
LOCATION:Хим. к. Прокатка1
END:VEVENT
BEGIN:VEVENT
UID:oglp@192.168.245.71:3006
SEQUENCE:0
DTSTAMP:20260425T031605Z
DTSTART:20251114T070000Z
DTEND:20251114T084000Z
SUMMARY:Спекание порошковых материалов
LOCATION:Хим. к. 56
END:VEVENT
BEGIN:VEVENT
UID:72jd@192.168.245.71:3006
SEQUENCE:0
DTSTAMP:20260425T031605Z
DTSTART:20251114T090000Z
DTEND:20251114T104000Z
SUMMARY:Спекание порошковых материалов
LOCATION:Хим. к. Прокатка1
END:VEVENT
END:VCALENDAR