BEGIN:VCALENDAR
VERSION:2.0
PRODID:-//spbstu.ru//ical//RU
NAME:Расписание
X-WR-CALNAME:Расписание
TIMEZONE-ID:Europe/Moscow
X-WR-TIMEZONE:Europe/Moscow
BEGIN:VEVENT
UID:wa04@192.168.245.71:3006
SEQUENCE:0
DTSTAMP:20260423T173100Z
DTSTART:20250922T150000Z
DTEND:20250922T152500Z
SUMMARY:Иностранный язык: Профессионально-ориентированный курс
LOCATION:DL Дистанционно
END:VEVENT
BEGIN:VEVENT
UID:rib9@192.168.245.71:3006
SEQUENCE:0
DTSTAMP:20260423T173100Z
DTSTART:20250923T070000Z
DTEND:20250923T084000Z
SUMMARY:Иностранный язык: Базовый курс
LOCATION:16 к. 401
END:VEVENT
BEGIN:VEVENT
UID:6vdh@192.168.245.71:3006
SEQUENCE:0
DTSTAMP:20260423T173100Z
DTSTART:20250923T090000Z
DTEND:20250923T104000Z
SUMMARY:Иностранный язык: деловая коммуникация
LOCATION:16 к. 401
END:VEVENT
BEGIN:VEVENT
UID:0qqv@192.168.245.71:3006
SEQUENCE:0
DTSTAMP:20260423T173100Z
DTSTART:20250923T110000Z
DTEND:20250923T124000Z
SUMMARY:Иностранный язык. Профессионально-ориентированный курс
LOCATION:16 к. 417
END:VEVENT
BEGIN:VEVENT
UID:0twp@192.168.245.71:3006
SEQUENCE:0
DTSTAMP:20260423T173100Z
DTSTART:20250923T130000Z
DTEND:20250923T144000Z
SUMMARY:Иностранный язык. Профессионально-ориентированный курс
LOCATION:16 к. 417
END:VEVENT
BEGIN:VEVENT
UID:l5au@192.168.245.71:3006
SEQUENCE:0
DTSTAMP:20260423T173100Z
DTSTART:20250924T070000Z
DTEND:20250924T084000Z
SUMMARY:Иностранный язык: Базовый курс
LOCATION:9 к. 216
END:VEVENT
BEGIN:VEVENT
UID:vz7z@192.168.245.71:3006
SEQUENCE:0
DTSTAMP:20260423T173100Z
DTSTART:20250924T090000Z
DTEND:20250924T104000Z
SUMMARY:Иностранный язык: Базовый курс
LOCATION:9 к. 216
END:VEVENT
BEGIN:VEVENT
UID:m5q6@192.168.245.71:3006
SEQUENCE:0
DTSTAMP:20260423T173100Z
DTSTART:20250924T110000Z
DTEND:20250924T124000Z
SUMMARY:Иностранный язык: Базовый курс
LOCATION:9 к. 221
END:VEVENT
BEGIN:VEVENT
UID:q12y@192.168.245.71:3006
SEQUENCE:0
DTSTAMP:20260423T173100Z
DTSTART:20250925T090000Z
DTEND:20250925T104000Z
SUMMARY:Иностранный язык. Профессионально-ориентированный курс
LOCATION:9 к. 208
END:VEVENT
BEGIN:VEVENT
UID:io8m@192.168.245.71:3006
SEQUENCE:0
DTSTAMP:20260423T173100Z
DTSTART:20250925T110000Z
DTEND:20250925T124000Z
SUMMARY:Письменная деловая коммуникация (на иностранном языке)
LOCATION:9 к. 216
END:VEVENT
BEGIN:VEVENT
UID:9e17@192.168.245.71:3006
SEQUENCE:0
DTSTAMP:20260423T173100Z
DTSTART:20250926T073000Z
DTEND:20250926T083000Z
SUMMARY:Педагогика
LOCATION:9 к. 216
END:VEVENT
BEGIN:VEVENT
UID:2wmq@192.168.245.71:3006
SEQUENCE:0
DTSTAMP:20260423T173100Z
DTSTART:20250926T090000Z
DTEND:20250926T104000Z
SUMMARY:Иностранный язык. Профессионально-ориентированный курс
LOCATION:9 к. 216
END:VEVENT
BEGIN:VEVENT
UID:bvc6@192.168.245.71:3006
SEQUENCE:0
DTSTAMP:20260423T173100Z
DTSTART:20250926T110000Z
DTEND:20250926T124000Z
SUMMARY:Письменная деловая коммуникация (на иностранном языке)
LOCATION:9 к. 216
END:VEVENT
END:VCALENDAR