BEGIN:VCALENDAR
VERSION:2.0
PRODID:-//spbstu.ru//ical//RU
NAME:Расписание
X-WR-CALNAME:Расписание
TIMEZONE-ID:Europe/Moscow
X-WR-TIMEZONE:Europe/Moscow
BEGIN:VEVENT
UID:650k@192.168.245.71:3006
SEQUENCE:0
DTSTAMP:20260422T042608Z
DTSTART:20260318T150000Z
DTEND:20260318T164000Z
SUMMARY:Научно-исследовательская работа
LOCATION:ГК 317
END:VEVENT
BEGIN:VEVENT
UID:aykx@192.168.245.71:3006
SEQUENCE:0
DTSTAMP:20260422T042608Z
DTSTART:20260318T170000Z
DTEND:20260318T184000Z
SUMMARY:Научно-исследовательская работа
LOCATION:ГК 317
END:VEVENT
BEGIN:VEVENT
UID:f45x@192.168.245.71:3006
SEQUENCE:0
DTSTAMP:20260422T042608Z
DTSTART:20260320T090000Z
DTEND:20260320T104000Z
SUMMARY:Безопасность и гигиена труда в международных стандартах (на англий
 ском языке)
LOCATION:ГК 316
END:VEVENT
BEGIN:VEVENT
UID:hb6e@192.168.245.71:3006
SEQUENCE:0
DTSTAMP:20260422T042608Z
DTSTART:20260320T090000Z
DTEND:20260320T104000Z
SUMMARY:Безопасность и гигиена труда в международных стандартах (на англий
 ском языке)
LOCATION:ГК 316
END:VEVENT
BEGIN:VEVENT
UID:ewyg@192.168.245.71:3006
SEQUENCE:0
DTSTAMP:20260422T042608Z
DTSTART:20260320T110000Z
DTEND:20260320T124000Z
SUMMARY:Научно-исследовательская работа
LOCATION:ГК 317
END:VEVENT
END:VCALENDAR