BEGIN:VCALENDAR
VERSION:2.0
PRODID:-//spbstu.ru//ical//RU
NAME:Расписание
X-WR-CALNAME:Расписание
TIMEZONE-ID:Europe/Moscow
X-WR-TIMEZONE:Europe/Moscow
BEGIN:VEVENT
UID:l92i@192.168.245.71:3006
SEQUENCE:0
DTSTAMP:20260424T013225Z
DTSTART:20251110T090000Z
DTEND:20251110T104000Z
SUMMARY:Социально-политическая система Испании
LOCATION:16 к. 119
END:VEVENT
BEGIN:VEVENT
UID:3gft@192.168.245.71:3006
SEQUENCE:0
DTSTAMP:20260424T013225Z
DTSTART:20251110T110000Z
DTEND:20251110T124000Z
SUMMARY:Социально-политическая система Испании
LOCATION:16 к. 113
END:VEVENT
BEGIN:VEVENT
UID:ivgy@192.168.245.71:3006
SEQUENCE:0
DTSTAMP:20260424T013225Z
DTSTART:20251110T130000Z
DTEND:20251110T144000Z
SUMMARY:История мировых религий
LOCATION:16 к. 200
END:VEVENT
BEGIN:VEVENT
UID:4vmk@192.168.245.71:3006
SEQUENCE:0
DTSTAMP:20260424T013225Z
DTSTART:20251110T150000Z
DTEND:20251110T164000Z
SUMMARY:История мировых религий
LOCATION:16 к. 515
END:VEVENT
BEGIN:VEVENT
UID:dpjv@192.168.245.71:3006
SEQUENCE:0
DTSTAMP:20260424T013225Z
DTSTART:20251111T090000Z
DTEND:20251111T104000Z
SUMMARY:История мировых религий
LOCATION:16 к. 111
END:VEVENT
BEGIN:VEVENT
UID:n7hy@192.168.245.71:3006
SEQUENCE:0
DTSTAMP:20260424T013225Z
DTSTART:20251111T110000Z
DTEND:20251111T124000Z
SUMMARY:История мировых религий
LOCATION:16 к. 400
END:VEVENT
BEGIN:VEVENT
UID:4v47@192.168.245.71:3006
SEQUENCE:0
DTSTAMP:20260424T013225Z
DTSTART:20251111T130000Z
DTEND:20251111T144000Z
SUMMARY:Культура Испании
LOCATION:16 к. 501
END:VEVENT
BEGIN:VEVENT
UID:5xsw@192.168.245.71:3006
SEQUENCE:0
DTSTAMP:20260424T013225Z
DTSTART:20251111T150000Z
DTEND:20251111T164000Z
SUMMARY:Культура Испании
LOCATION:16 к. 501
END:VEVENT
END:VCALENDAR