BEGIN:VCALENDAR
VERSION:2.0
PRODID:-//spbstu.ru//ical//RU
NAME:Расписание
X-WR-CALNAME:Расписание
TIMEZONE-ID:Europe/Moscow
X-WR-TIMEZONE:Europe/Moscow
BEGIN:VEVENT
UID:kmlp@192.168.245.71:3006
SEQUENCE:0
DTSTAMP:20260422T113706Z
DTSTART:20260302T110000Z
DTEND:20260302T124000Z
SUMMARY:Культура Испании
LOCATION:16 к. 113
END:VEVENT
BEGIN:VEVENT
UID:dd15@192.168.245.71:3006
SEQUENCE:0
DTSTAMP:20260422T113706Z
DTSTART:20260302T130000Z
DTEND:20260302T144000Z
SUMMARY:Этнология Испании
LOCATION:16 к. 109
END:VEVENT
BEGIN:VEVENT
UID:9rex@192.168.245.71:3006
SEQUENCE:0
DTSTAMP:20260422T113706Z
DTSTART:20260303T090000Z
DTEND:20260303T104000Z
SUMMARY:Культура Испании
LOCATION:16 к. 511
END:VEVENT
BEGIN:VEVENT
UID:sx50@192.168.245.71:3006
SEQUENCE:0
DTSTAMP:20260422T113706Z
DTSTART:20260303T110000Z
DTEND:20260303T124000Z
SUMMARY:Этнология Испании
LOCATION:16 к. 109
END:VEVENT
BEGIN:VEVENT
UID:ldjg@192.168.245.71:3006
SEQUENCE:0
DTSTAMP:20260422T113706Z
DTSTART:20260303T150000Z
DTEND:20260303T164000Z
SUMMARY:Публичное право Испании
LOCATION:16 к. 109
END:VEVENT
END:VCALENDAR