BEGIN:VCALENDAR
VERSION:2.0
PRODID:-//spbstu.ru//ical//RU
NAME:Расписание
X-WR-CALNAME:Расписание
TIMEZONE-ID:Europe/Moscow
X-WR-TIMEZONE:Europe/Moscow
BEGIN:VEVENT
UID:he6m@192.168.245.71:3006
SEQUENCE:0
DTSTAMP:20260422T070825Z
DTSTART:20260323T110000Z
DTEND:20260323T124000Z
SUMMARY:Культура Испании
LOCATION:16 к. 113
END:VEVENT
BEGIN:VEVENT
UID:ro34@192.168.245.71:3006
SEQUENCE:0
DTSTAMP:20260422T070825Z
DTSTART:20260323T130000Z
DTEND:20260323T144000Z
SUMMARY:Этнология Испании
LOCATION:16 к. 109
END:VEVENT
BEGIN:VEVENT
UID:hpuo@192.168.245.71:3006
SEQUENCE:0
DTSTAMP:20260422T070825Z
DTSTART:20260323T150000Z
DTEND:20260323T164000Z
SUMMARY:Публичное право Испании
LOCATION:16 к. 109
END:VEVENT
BEGIN:VEVENT
UID:ecwm@192.168.245.71:3006
SEQUENCE:0
DTSTAMP:20260422T070825Z
DTSTART:20260324T090000Z
DTEND:20260324T104000Z
SUMMARY:Публичное право Испании
LOCATION:16 к. 203
END:VEVENT
BEGIN:VEVENT
UID:19h1@192.168.245.71:3006
SEQUENCE:0
DTSTAMP:20260422T070825Z
DTSTART:20260324T110000Z
DTEND:20260324T124000Z
SUMMARY:Этнология Испании
LOCATION:16 к. 109
END:VEVENT
BEGIN:VEVENT
UID:4kx4@192.168.245.71:3006
SEQUENCE:0
DTSTAMP:20260422T070825Z
DTSTART:20260324T150000Z
DTEND:20260324T164000Z
SUMMARY:Публичное право Испании
LOCATION:16 к. 109
END:VEVENT
END:VCALENDAR