BEGIN:VCALENDAR
VERSION:2.0
PRODID:-//spbstu.ru//ical//RU
NAME:Расписание
X-WR-CALNAME:Расписание
TIMEZONE-ID:Europe/Moscow
X-WR-TIMEZONE:Europe/Moscow
BEGIN:VEVENT
UID:6dne@192.168.245.71:3006
SEQUENCE:0
DTSTAMP:20260424T025530Z
DTSTART:20251124T090000Z
DTEND:20251124T104000Z
SUMMARY:Оптоинформатика и квантовая криптография
LOCATION:2 к. 454
END:VEVENT
BEGIN:VEVENT
UID:vgt8@192.168.245.71:3006
SEQUENCE:0
DTSTAMP:20260424T025530Z
DTSTART:20251124T110000Z
DTEND:20251124T124000Z
SUMMARY:Волоконно-оптические телекоммуникационные системы
LOCATION:2 к. 454
END:VEVENT
BEGIN:VEVENT
UID:wzbm@192.168.245.71:3006
SEQUENCE:0
DTSTAMP:20260424T025530Z
DTSTART:20251124T130000Z
DTEND:20251124T144000Z
SUMMARY:Волоконно-оптические телекоммуникационные системы
LOCATION:2 к. 352
END:VEVENT
BEGIN:VEVENT
UID:tsun@192.168.245.71:3006
SEQUENCE:0
DTSTAMP:20260424T025530Z
DTSTART:20251128T070000Z
DTEND:20251128T084000Z
SUMMARY:Волоконно-оптические телекоммуникационные системы
LOCATION:2 к. 454
END:VEVENT
BEGIN:VEVENT
UID:q7tn@192.168.245.71:3006
SEQUENCE:0
DTSTAMP:20260424T025530Z
DTSTART:20251128T090000Z
DTEND:20251128T104000Z
SUMMARY:Оптоинформатика и квантовая криптография
LOCATION:2 к. 346
END:VEVENT
BEGIN:VEVENT
UID:nn8m@192.168.245.71:3006
SEQUENCE:0
DTSTAMP:20260424T025530Z
DTSTART:20251128T110000Z
DTEND:20251128T124000Z
SUMMARY:Расчет оптических систем
LOCATION:2 к. 346
END:VEVENT
END:VCALENDAR