BEGIN:VCALENDAR
VERSION:2.0
PRODID:-//spbstu.ru//ical//RU
NAME:Расписание
X-WR-CALNAME:Расписание
TIMEZONE-ID:Europe/Moscow
X-WR-TIMEZONE:Europe/Moscow
BEGIN:VEVENT
UID:je9l@192.168.245.71:3006
SEQUENCE:0
DTSTAMP:20260424T044422Z
DTSTART:20251103T090000Z
DTEND:20251103T104000Z
SUMMARY:Оптоинформатика и квантовая криптография
LOCATION:2 к. 454
END:VEVENT
BEGIN:VEVENT
UID:04w7@192.168.245.71:3006
SEQUENCE:0
DTSTAMP:20260424T044422Z
DTSTART:20251103T110000Z
DTEND:20251103T124000Z
SUMMARY:Волоконно-оптические телекоммуникационные системы
LOCATION:2 к. 454
END:VEVENT
BEGIN:VEVENT
UID:0pk8@192.168.245.71:3006
SEQUENCE:0
DTSTAMP:20260424T044422Z
DTSTART:20251103T130000Z
DTEND:20251103T144000Z
SUMMARY:Волоконно-оптические телекоммуникационные системы
LOCATION:2 к. 352
END:VEVENT
BEGIN:VEVENT
UID:8oy6@192.168.245.71:3006
SEQUENCE:0
DTSTAMP:20260424T044422Z
DTSTART:20251107T070000Z
DTEND:20251107T084000Z
SUMMARY:Волоконно-оптические телекоммуникационные системы
LOCATION:2 к. 346
END:VEVENT
BEGIN:VEVENT
UID:e5a6@192.168.245.71:3006
SEQUENCE:0
DTSTAMP:20260424T044422Z
DTSTART:20251107T090000Z
DTEND:20251107T104000Z
SUMMARY:Оптоинформатика и квантовая криптография
LOCATION:2 к. 346
END:VEVENT
BEGIN:VEVENT
UID:m8x9@192.168.245.71:3006
SEQUENCE:0
DTSTAMP:20260424T044422Z
DTSTART:20251107T110000Z
DTEND:20251107T124000Z
SUMMARY:Расчет оптических систем
LOCATION:2 к. 346
END:VEVENT
END:VCALENDAR