BEGIN:VCALENDAR
VERSION:2.0
PRODID:-//spbstu.ru//ical//RU
NAME:Расписание
X-WR-CALNAME:Расписание
TIMEZONE-ID:Europe/Moscow
X-WR-TIMEZONE:Europe/Moscow
BEGIN:VEVENT
UID:9etq@192.168.245.71:3006
SEQUENCE:0
DTSTAMP:20260421T235302Z
DTSTART:20260525T070000Z
DTEND:20260525T100000Z
SUMMARY:Типы и конструкции микроэлектромеханических систем
LOCATION:Хим. к. 28
END:VEVENT
BEGIN:VEVENT
UID:8hht@192.168.245.71:3006
SEQUENCE:0
DTSTAMP:20260421T235302Z
DTSTART:20260525T100000Z
DTEND:20260525T130000Z
SUMMARY:Типы и конструкции микроэлектромеханических систем
LOCATION:Хим. к. 28
END:VEVENT
END:VCALENDAR