BEGIN:VCALENDAR
VERSION:2.0
PRODID:-//spbstu.ru//ical//RU
NAME:Расписание
X-WR-CALNAME:Расписание
TIMEZONE-ID:Europe/Moscow
X-WR-TIMEZONE:Europe/Moscow
BEGIN:VEVENT
UID:apn3@192.168.245.71:3006
SEQUENCE:0
DTSTAMP:20260422T115621Z
DTSTART:20251126T070000Z
DTEND:20251126T084000Z
SUMMARY:Ремонт и монтаж тепловых сетей
LOCATION:Мех. к. Комп. кл. №7
END:VEVENT
BEGIN:VEVENT
UID:ewcb@192.168.245.71:3006
SEQUENCE:0
DTSTAMP:20260422T115621Z
DTSTART:20251126T090000Z
DTEND:20251126T104000Z
SUMMARY:Ремонт и монтаж тепловых сетей
LOCATION:Мех. к. Комп. кл. №7
END:VEVENT
BEGIN:VEVENT
UID:2bto@192.168.245.71:3006
SEQUENCE:0
DTSTAMP:20260422T115621Z
DTSTART:20251127T130000Z
DTEND:20251127T144000Z
SUMMARY:Инжиниринг систем теплоснабжения
LOCATION:ТВН ВШАиТЭ уч.ауд.№303
END:VEVENT
END:VCALENDAR