BEGIN:VCALENDAR
VERSION:2.0
PRODID:-//spbstu.ru//ical//RU
NAME:Расписание
X-WR-CALNAME:Расписание
TIMEZONE-ID:Europe/Moscow
X-WR-TIMEZONE:Europe/Moscow
BEGIN:VEVENT
UID:xc11@192.168.245.71:3006
SEQUENCE:0
DTSTAMP:20260424T233710Z
DTSTART:20250916T070000Z
DTEND:20250916T084000Z
SUMMARY:Основы организации и управления в строительстве
LOCATION:ГК-2 407
END:VEVENT
BEGIN:VEVENT
UID:p9u0@192.168.245.71:3006
SEQUENCE:0
DTSTAMP:20260424T233710Z
DTSTART:20250916T153000Z
DTEND:20250916T171000Z
SUMMARY:Научно-исследовательская работа
LOCATION:ГК-2 502
END:VEVENT
BEGIN:VEVENT
UID:dw89@192.168.245.71:3006
SEQUENCE:0
DTSTAMP:20260424T233710Z
DTSTART:20250916T171500Z
DTEND:20250916T184000Z
SUMMARY:Проектная практика
LOCATION:ГК-2 502
END:VEVENT
BEGIN:VEVENT
UID:1mfz@192.168.245.71:3006
SEQUENCE:0
DTSTAMP:20260424T233710Z
DTSTART:20250917T070000Z
DTEND:20250917T084000Z
SUMMARY:Организация строительства
LOCATION:ГК-2 407
END:VEVENT
BEGIN:VEVENT
UID:15lw@192.168.245.71:3006
SEQUENCE:0
DTSTAMP:20260424T233710Z
DTSTART:20250917T090000Z
DTEND:20250917T104000Z
SUMMARY:Организация строительства
LOCATION:ГК-2 506
END:VEVENT
BEGIN:VEVENT
UID:noq4@192.168.245.71:3006
SEQUENCE:0
DTSTAMP:20260424T233710Z
DTSTART:20250917T110000Z
DTEND:20250917T124000Z
SUMMARY:Организация строительства
LOCATION:ГК-2 506
END:VEVENT
BEGIN:VEVENT
UID:w5xo@192.168.245.71:3006
SEQUENCE:0
DTSTAMP:20260424T233710Z
DTSTART:20250917T130000Z
DTEND:20250917T144000Z
SUMMARY:Организация строительства
LOCATION:ГК-2 506
END:VEVENT
BEGIN:VEVENT
UID:fo5z@192.168.245.71:3006
SEQUENCE:0
DTSTAMP:20260424T233710Z
DTSTART:20250917T150000Z
DTEND:20250917T164000Z
SUMMARY:Организация\, планирование и управление в строительстве
LOCATION:ГК-2 110
END:VEVENT
BEGIN:VEVENT
UID:jamz@192.168.245.71:3006
SEQUENCE:0
DTSTAMP:20260424T233710Z
DTSTART:20250918T153000Z
DTEND:20250918T171000Z
SUMMARY:Научно-исследовательская работа
LOCATION:ГК-2 412
END:VEVENT
END:VCALENDAR