BEGIN:VCALENDAR
VERSION:2.0
PRODID:-//spbstu.ru//ical//RU
NAME:Расписание
X-WR-CALNAME:Расписание
TIMEZONE-ID:Europe/Moscow
X-WR-TIMEZONE:Europe/Moscow
BEGIN:VEVENT
UID:6gxa@192.168.245.71:3006
SEQUENCE:0
DTSTAMP:20260425T035000Z
DTSTART:20250909T070000Z
DTEND:20250909T084000Z
SUMMARY:Основы организации и управления в строительстве
LOCATION:ГК-2 407
END:VEVENT
BEGIN:VEVENT
UID:3emk@192.168.245.71:3006
SEQUENCE:0
DTSTAMP:20260425T035000Z
DTSTART:20250909T150000Z
DTEND:20250909T164000Z
SUMMARY:Образовательный форсайт
LOCATION:ГК-2 412
END:VEVENT
END:VCALENDAR