BEGIN:VCALENDAR
VERSION:2.0
PRODID:-//spbstu.ru//ical//RU
NAME:Расписание
X-WR-CALNAME:Расписание
TIMEZONE-ID:Europe/Moscow
X-WR-TIMEZONE:Europe/Moscow
BEGIN:VEVENT
UID:c104@192.168.245.71:3006
SEQUENCE:0
DTSTAMP:20260426T022553Z
DTSTART:20260413T070000Z
DTEND:20260413T074000Z
SUMMARY:Вычислительный проект по компьютерным технологиям
LOCATION:1 к. каф.МПУ
END:VEVENT
BEGIN:VEVENT
UID:9ffk@192.168.245.71:3006
SEQUENCE:0
DTSTAMP:20260426T022553Z
DTSTART:20260413T080000Z
DTEND:20260413T084000Z
SUMMARY:Вычислительный проект по компьютерным технологиям
LOCATION:1 к. каф.МПУ
END:VEVENT
BEGIN:VEVENT
UID:tq6t@192.168.245.71:3006
SEQUENCE:0
DTSTAMP:20260426T022553Z
DTSTART:20260413T090000Z
DTEND:20260413T104000Z
SUMMARY:Вычислительный проект по компьютерным технологиям
LOCATION:1 к. каф.МПУ
END:VEVENT
BEGIN:VEVENT
UID:6lra@192.168.245.71:3006
SEQUENCE:0
DTSTAMP:20260426T022553Z
DTSTART:20260416T070000Z
DTEND:20260416T084000Z
SUMMARY:Механика разрушения
LOCATION:4 к. 300-А
END:VEVENT
END:VCALENDAR