BEGIN:VCALENDAR
VERSION:2.0
PRODID:-//spbstu.ru//ical//RU
NAME:Расписание
X-WR-CALNAME:Расписание
TIMEZONE-ID:Europe/Moscow
X-WR-TIMEZONE:Europe/Moscow
BEGIN:VEVENT
UID:78mo@192.168.245.71:3006
SEQUENCE:0
DTSTAMP:20260422T102436Z
DTSTART:20260216T070000Z
DTEND:20260216T084000Z
SUMMARY:Макетирование
LOCATION:ГЗ 303 (5)
END:VEVENT
BEGIN:VEVENT
UID:un7c@192.168.245.71:3006
SEQUENCE:0
DTSTAMP:20260422T102436Z
DTSTART:20260216T090000Z
DTEND:20260216T104000Z
SUMMARY:Информатика
LOCATION:ГЗ 303 (5)
END:VEVENT
BEGIN:VEVENT
UID:iugp@192.168.245.71:3006
SEQUENCE:0
DTSTAMP:20260422T102436Z
DTSTART:20260217T090000Z
DTEND:20260217T104000Z
SUMMARY:Персонажная анимация
LOCATION:ГЗ 303 (5)
END:VEVENT
BEGIN:VEVENT
UID:4jej@192.168.245.71:3006
SEQUENCE:0
DTSTAMP:20260422T102436Z
DTSTART:20260217T110000Z
DTEND:20260217T124000Z
SUMMARY:Управление инновационным проектом
LOCATION:ГЗ 303 (5)
END:VEVENT
BEGIN:VEVENT
UID:se38@192.168.245.71:3006
SEQUENCE:0
DTSTAMP:20260422T102436Z
DTSTART:20260218T150000Z
DTEND:20260218T153000Z
SUMMARY:Карьерная адаптивность
LOCATION:ГЗ 303 (5)
END:VEVENT
BEGIN:VEVENT
UID:rm81@192.168.245.71:3006
SEQUENCE:0
DTSTAMP:20260422T102436Z
DTSTART:20260218T151000Z
DTEND:20260218T153000Z
SUMMARY:Образовательный форсайт
LOCATION:ГЗ 303 (5)
END:VEVENT
BEGIN:VEVENT
UID:37fi@192.168.245.71:3006
SEQUENCE:0
DTSTAMP:20260422T102436Z
DTSTART:20260218T153000Z
DTEND:20260218T171000Z
SUMMARY:Компьютерная графика
LOCATION:ГЗ 303 (5)
END:VEVENT
BEGIN:VEVENT
UID:piit@192.168.245.71:3006
SEQUENCE:0
DTSTAMP:20260422T102436Z
DTSTART:20260219T070000Z
DTEND:20260219T084000Z
SUMMARY:Информатика
LOCATION:ГЗ 303 (5)
END:VEVENT
BEGIN:VEVENT
UID:k0z8@192.168.245.71:3006
SEQUENCE:0
DTSTAMP:20260422T102436Z
DTSTART:20260219T110000Z
DTEND:20260219T124000Z
SUMMARY:Технология поиска решений инженерных задач
LOCATION:ГЗ 301 А
END:VEVENT
BEGIN:VEVENT
UID:k2oh@192.168.245.71:3006
SEQUENCE:0
DTSTAMP:20260422T102436Z
DTSTART:20260219T130000Z
DTEND:20260219T153000Z
SUMMARY:Информационные технологии
LOCATION:ГЗ 301 А
END:VEVENT
BEGIN:VEVENT
UID:hs78@192.168.245.71:3006
SEQUENCE:0
DTSTAMP:20260422T102436Z
DTSTART:20260219T150000Z
DTEND:20260219T164000Z
SUMMARY:Дизайн-проектирование
LOCATION:ГЗ 301 А
END:VEVENT
BEGIN:VEVENT
UID:ipzt@192.168.245.71:3006
SEQUENCE:0
DTSTAMP:20260422T102436Z
DTSTART:20260219T153000Z
DTEND:20260219T164000Z
SUMMARY:Дизайн-проектирование
LOCATION:ГЗ 301 А
END:VEVENT
END:VCALENDAR