BEGIN:VCALENDAR
VERSION:2.0
PRODID:-//spbstu.ru//ical//RU
NAME:Расписание
X-WR-CALNAME:Расписание
TIMEZONE-ID:Europe/Moscow
X-WR-TIMEZONE:Europe/Moscow
BEGIN:VEVENT
UID:g17g@192.168.245.71:3006
SEQUENCE:0
DTSTAMP:20260421T152242Z
DTSTART:20260511T090000Z
DTEND:20260511T104000Z
SUMMARY:Информатика
LOCATION:ГЗ 303 (5)
END:VEVENT
BEGIN:VEVENT
UID:eas5@192.168.245.71:3006
SEQUENCE:0
DTSTAMP:20260421T152242Z
DTSTART:20260513T130000Z
DTEND:20260513T151500Z
SUMMARY:Дизайн-проектирование
LOCATION:ГЗ 301 К
END:VEVENT
BEGIN:VEVENT
UID:6ri6@192.168.245.71:3006
SEQUENCE:0
DTSTAMP:20260421T152242Z
DTSTART:20260513T153000Z
DTEND:20260513T171000Z
SUMMARY:Дизайн-проектирование
LOCATION:ГЗ 301 А
END:VEVENT
BEGIN:VEVENT
UID:9ofk@192.168.245.71:3006
SEQUENCE:0
DTSTAMP:20260421T152242Z
DTSTART:20260514T070000Z
DTEND:20260514T084000Z
SUMMARY:Информатика
LOCATION:ГЗ 303 (5)
END:VEVENT
BEGIN:VEVENT
UID:ne7j@192.168.245.71:3006
SEQUENCE:0
DTSTAMP:20260421T152242Z
DTSTART:20260514T090000Z
DTEND:20260514T104000Z
SUMMARY:Компьютерное обеспечение дизайн-проекта
LOCATION:ГЗ 303 (3)
END:VEVENT
BEGIN:VEVENT
UID:mi91@192.168.245.71:3006
SEQUENCE:0
DTSTAMP:20260421T152242Z
DTSTART:20260514T110000Z
DTEND:20260514T124000Z
SUMMARY:Компьютерное обеспечение дизайн-проекта
LOCATION:ГЗ 303 (3)
END:VEVENT
BEGIN:VEVENT
UID:5h34@192.168.245.71:3006
SEQUENCE:0
DTSTAMP:20260421T152242Z
DTSTART:20260514T130000Z
DTEND:20260514T153000Z
SUMMARY:Информационные технологии
LOCATION:ГЗ 301 А
END:VEVENT
END:VCALENDAR