BEGIN:VCALENDAR
VERSION:2.0
PRODID:-//spbstu.ru//ical//RU
NAME:Расписание
X-WR-CALNAME:Расписание
TIMEZONE-ID:Europe/Moscow
X-WR-TIMEZONE:Europe/Moscow
BEGIN:VEVENT
UID:ceuv@192.168.245.71:3006
SEQUENCE:0
DTSTAMP:20260421T150529Z
DTSTART:20260504T090000Z
DTEND:20260504T104000Z
SUMMARY:Информатика
LOCATION:ГЗ 303 (5)
END:VEVENT
BEGIN:VEVENT
UID:jmg2@192.168.245.71:3006
SEQUENCE:0
DTSTAMP:20260421T150529Z
DTSTART:20260505T110000Z
DTEND:20260505T124000Z
SUMMARY:Информатика
LOCATION:ГЗ 303 (3)
END:VEVENT
BEGIN:VEVENT
UID:iqqc@192.168.245.71:3006
SEQUENCE:0
DTSTAMP:20260421T150529Z
DTSTART:20260506T130000Z
DTEND:20260506T151500Z
SUMMARY:Дизайн-проектирование
LOCATION:ГЗ 301 К
END:VEVENT
BEGIN:VEVENT
UID:ccjh@192.168.245.71:3006
SEQUENCE:0
DTSTAMP:20260421T150529Z
DTSTART:20260507T070000Z
DTEND:20260507T084000Z
SUMMARY:Информатика
LOCATION:ГЗ 303 (5)
END:VEVENT
BEGIN:VEVENT
UID:tr72@192.168.245.71:3006
SEQUENCE:0
DTSTAMP:20260421T150529Z
DTSTART:20260507T090000Z
DTEND:20260507T104000Z
SUMMARY:Компьютерное обеспечение дизайн-проекта
LOCATION:ГЗ 303 (3)
END:VEVENT
BEGIN:VEVENT
UID:fc72@192.168.245.71:3006
SEQUENCE:0
DTSTAMP:20260421T150529Z
DTSTART:20260507T110000Z
DTEND:20260507T124000Z
SUMMARY:Компьютерное обеспечение дизайн-проекта
LOCATION:ГЗ 303 (3)
END:VEVENT
BEGIN:VEVENT
UID:tu97@192.168.245.71:3006
SEQUENCE:0
DTSTAMP:20260421T150529Z
DTSTART:20260507T130000Z
DTEND:20260507T153000Z
SUMMARY:Информационные технологии
LOCATION:ГЗ 301 А
END:VEVENT
END:VCALENDAR