BEGIN:VCALENDAR
VERSION:2.0
PRODID:-//spbstu.ru//ical//RU
NAME:Расписание
X-WR-CALNAME:Расписание
TIMEZONE-ID:Europe/Moscow
X-WR-TIMEZONE:Europe/Moscow
BEGIN:VEVENT
UID:mymf@192.168.245.71:3006
SEQUENCE:0
DTSTAMP:20260425T143323Z
DTSTART:20251202T070000Z
DTEND:20251202T084000Z
SUMMARY:Декларирование опасных производств
LOCATION:ГК 449
END:VEVENT
BEGIN:VEVENT
UID:22bt@192.168.245.71:3006
SEQUENCE:0
DTSTAMP:20260425T143323Z
DTSTART:20251203T130000Z
DTEND:20251203T144000Z
SUMMARY:Научно-исследовательская работа
LOCATION:ГК 450
END:VEVENT
BEGIN:VEVENT
UID:zx9q@192.168.245.71:3006
SEQUENCE:0
DTSTAMP:20260425T143323Z
DTSTART:20251204T130000Z
DTEND:20251204T144000Z
SUMMARY:Научно-исследовательская работа
LOCATION:ГК 448
END:VEVENT
BEGIN:VEVENT
UID:9c9w@192.168.245.71:3006
SEQUENCE:0
DTSTAMP:20260425T143323Z
DTSTART:20251204T150000Z
DTEND:20251204T164000Z
SUMMARY:Обеспечение промышленной безопасности опасных производственных объ
 ектов на различных этапах жизненного цикла
LOCATION:ГК 317
END:VEVENT
END:VCALENDAR