BEGIN:VCALENDAR
VERSION:2.0
PRODID:-//spbstu.ru//ical//RU
NAME:Расписание
X-WR-CALNAME:Расписание
TIMEZONE-ID:Europe/Moscow
X-WR-TIMEZONE:Europe/Moscow
BEGIN:VEVENT
UID:uad0@192.168.245.71:3006
SEQUENCE:0
DTSTAMP:20260422T081334Z
DTSTART:20260219T130000Z
DTEND:20260219T144000Z
SUMMARY:Техническая эксплуатация зданий\, сооружений и городских территори
 й
LOCATION:ГК-2 404
END:VEVENT
BEGIN:VEVENT
UID:r6rk@192.168.245.71:3006
SEQUENCE:0
DTSTAMP:20260422T081334Z
DTSTART:20260219T150000Z
DTEND:20260219T164000Z
SUMMARY:Проектно-вычислительные комплексы в строительстве
LOCATION:ГК-2 404
END:VEVENT
BEGIN:VEVENT
UID:cbo2@192.168.245.71:3006
SEQUENCE:0
DTSTAMP:20260422T081334Z
DTSTART:20260219T170000Z
DTEND:20260219T184000Z
SUMMARY:Информационное моделирование процесса строительства
LOCATION:DL Дистанционно
END:VEVENT
BEGIN:VEVENT
UID:mgbp@192.168.245.71:3006
SEQUENCE:0
DTSTAMP:20260422T081334Z
DTSTART:20260220T110000Z
DTEND:20260220T124000Z
SUMMARY:Техническая эксплуатация зданий\, сооружений и городских территори
 й
LOCATION:ГК-2 404
END:VEVENT
END:VCALENDAR