BEGIN:VCALENDAR
VERSION:2.0
PRODID:-//spbstu.ru//ical//RU
NAME:Расписание
X-WR-CALNAME:Расписание
TIMEZONE-ID:Europe/Moscow
X-WR-TIMEZONE:Europe/Moscow
BEGIN:VEVENT
UID:wcwy@192.168.245.71:3006
SEQUENCE:0
DTSTAMP:20260421T150301Z
DTSTART:20260416T130000Z
DTEND:20260416T144000Z
SUMMARY:Техническая эксплуатация зданий\, сооружений и городских территори
 й
LOCATION:ГК-2 404
END:VEVENT
BEGIN:VEVENT
UID:sovt@192.168.245.71:3006
SEQUENCE:0
DTSTAMP:20260421T150301Z
DTSTART:20260417T110000Z
DTEND:20260417T124000Z
SUMMARY:Техническая эксплуатация зданий\, сооружений и городских территори
 й
LOCATION:ГК-2 404
END:VEVENT
END:VCALENDAR