BEGIN:VCALENDAR
VERSION:2.0
PRODID:-//spbstu.ru//ical//RU
NAME:Расписание
X-WR-CALNAME:Расписание
TIMEZONE-ID:Europe/Moscow
X-WR-TIMEZONE:Europe/Moscow
BEGIN:VEVENT
UID:1o3y@192.168.245.71:3006
SEQUENCE:0
DTSTAMP:20260421T150300Z
DTSTART:20260511T070000Z
DTEND:20260511T084000Z
SUMMARY:Техническая эксплуатация зданий\, сооружений и городских территори
 й
LOCATION:ГК-2 402
END:VEVENT
BEGIN:VEVENT
UID:gdmv@192.168.245.71:3006
SEQUENCE:0
DTSTAMP:20260421T150300Z
DTSTART:20260511T090000Z
DTEND:20260511T140000Z
SUMMARY:Техническая эксплуатация зданий\, сооружений и городских территори
 й
LOCATION:ГК-2 402
END:VEVENT
BEGIN:VEVENT
UID:faov@192.168.245.71:3006
SEQUENCE:0
DTSTAMP:20260421T150300Z
DTSTART:20260514T070000Z
DTEND:20260514T084000Z
SUMMARY:Техническая эксплуатация зданий\, сооружений и городских территори
 й
LOCATION:ГК-2 404
END:VEVENT
BEGIN:VEVENT
UID:j8xi@192.168.245.71:3006
SEQUENCE:0
DTSTAMP:20260421T150300Z
DTSTART:20260514T090000Z
DTEND:20260514T140000Z
SUMMARY:Техническая эксплуатация зданий\, сооружений и городских территори
 й
LOCATION:ГК-2 404
END:VEVENT
END:VCALENDAR