BEGIN:VCALENDAR
VERSION:2.0
PRODID:-//spbstu.ru//ical//RU
NAME:Расписание
X-WR-CALNAME:Расписание
TIMEZONE-ID:Europe/Moscow
X-WR-TIMEZONE:Europe/Moscow
BEGIN:VEVENT
UID:7zx3@192.168.245.71:3006
SEQUENCE:0
DTSTAMP:20260424T022804Z
DTSTART:20251027T090000Z
DTEND:20251027T104000Z
SUMMARY:Теория автоматического управления
LOCATION:ГЗ 153
END:VEVENT
BEGIN:VEVENT
UID:nhd7@192.168.245.71:3006
SEQUENCE:0
DTSTAMP:20260424T022804Z
DTSTART:20251027T110000Z
DTEND:20251027T124000Z
SUMMARY:Теория автоматического управления
LOCATION:ГЗ 284
END:VEVENT
BEGIN:VEVENT
UID:82ak@192.168.245.71:3006
SEQUENCE:0
DTSTAMP:20260424T022804Z
DTSTART:20251027T130000Z
DTEND:20251027T144000Z
SUMMARY:Теория автоматического управления
LOCATION:1 к. кафедра Автоматы
END:VEVENT
BEGIN:VEVENT
UID:1c7o@192.168.245.71:3006
SEQUENCE:0
DTSTAMP:20260424T022804Z
DTSTART:20251027T150000Z
DTEND:20251027T155000Z
SUMMARY:Теория автоматического управления
LOCATION:1 к. 413
END:VEVENT
END:VCALENDAR