BEGIN:VCALENDAR
VERSION:2.0
PRODID:-//spbstu.ru//ical//RU
NAME:Расписание
X-WR-CALNAME:Расписание
TIMEZONE-ID:Europe/Moscow
X-WR-TIMEZONE:Europe/Moscow
BEGIN:VEVENT
UID:xstu@192.168.245.71:3006
SEQUENCE:0
DTSTAMP:20260423T175715Z
DTSTART:20251110T090000Z
DTEND:20251110T104000Z
SUMMARY:Теория автоматического управления
LOCATION:ГЗ 153
END:VEVENT
BEGIN:VEVENT
UID:nkgx@192.168.245.71:3006
SEQUENCE:0
DTSTAMP:20260423T175715Z
DTSTART:20251110T110000Z
DTEND:20251110T124000Z
SUMMARY:Теория автоматического управления
LOCATION:ГЗ 265
END:VEVENT
BEGIN:VEVENT
UID:7653@192.168.245.71:3006
SEQUENCE:0
DTSTAMP:20260423T175715Z
DTSTART:20251110T130000Z
DTEND:20251110T144000Z
SUMMARY:Теория автоматического управления
LOCATION:1 к. кафедра Автоматы
END:VEVENT
BEGIN:VEVENT
UID:o4oz@192.168.245.71:3006
SEQUENCE:0
DTSTAMP:20260423T175715Z
DTSTART:20251110T150000Z
DTEND:20251110T155000Z
SUMMARY:Теория автоматического управления
LOCATION:1 к. 413
END:VEVENT
END:VCALENDAR