BEGIN:VCALENDAR
VERSION:2.0
PRODID:-//spbstu.ru//ical//RU
NAME:Расписание
X-WR-CALNAME:Расписание
TIMEZONE-ID:Europe/Moscow
X-WR-TIMEZONE:Europe/Moscow
BEGIN:VEVENT
UID:sx8v@192.168.245.71:3006
SEQUENCE:0
DTSTAMP:20260423T175715Z
DTSTART:20251124T090000Z
DTEND:20251124T104000Z
SUMMARY:Теория автоматического управления
LOCATION:ГЗ 153
END:VEVENT
BEGIN:VEVENT
UID:272a@192.168.245.71:3006
SEQUENCE:0
DTSTAMP:20260423T175715Z
DTSTART:20251124T110000Z
DTEND:20251124T124000Z
SUMMARY:Теория автоматического управления
LOCATION:ГЗ 265
END:VEVENT
BEGIN:VEVENT
UID:ymgt@192.168.245.71:3006
SEQUENCE:0
DTSTAMP:20260423T175715Z
DTSTART:20251124T130000Z
DTEND:20251124T144000Z
SUMMARY:Теория автоматического управления
LOCATION:1 к. кафедра Автоматы
END:VEVENT
BEGIN:VEVENT
UID:k9z6@192.168.245.71:3006
SEQUENCE:0
DTSTAMP:20260423T175715Z
DTSTART:20251124T150000Z
DTEND:20251124T155000Z
SUMMARY:Теория автоматического управления
LOCATION:1 к. 413
END:VEVENT
END:VCALENDAR