BEGIN:VCALENDAR
VERSION:2.0
PRODID:-//spbstu.ru//ical//RU
NAME:Расписание
X-WR-CALNAME:Расписание
TIMEZONE-ID:Europe/Moscow
X-WR-TIMEZONE:Europe/Moscow
BEGIN:VEVENT
UID:uqjx@192.168.245.71:3006
SEQUENCE:0
DTSTAMP:20260423T041409Z
DTSTART:20251224T130000Z
DTEND:20251224T134500Z
SUMMARY:Теория автоматического управления
LOCATION:ГЗ 265
END:VEVENT
BEGIN:VEVENT
UID:31ke@192.168.245.71:3006
SEQUENCE:0
DTSTAMP:20260423T041409Z
DTSTART:20251225T110000Z
DTEND:20251225T140000Z
SUMMARY:Теория автоматического управления
LOCATION:ГЗ 265
END:VEVENT
END:VCALENDAR