BEGIN:VCALENDAR
VERSION:2.0
PRODID:-//spbstu.ru//ical//RU
NAME:Расписание
X-WR-CALNAME:Расписание
TIMEZONE-ID:Europe/Moscow
X-WR-TIMEZONE:Europe/Moscow
BEGIN:VEVENT
UID:ruwu@192.168.245.71:3006
SEQUENCE:0
DTSTAMP:20260421T051341Z
DTSTART:20260408T090000Z
DTEND:20260408T104000Z
SUMMARY:Теория автоматического управления
LOCATION:1 к. 41
END:VEVENT
BEGIN:VEVENT
UID:oomw@192.168.245.71:3006
SEQUENCE:0
DTSTAMP:20260421T051341Z
DTSTART:20260409T090000Z
DTEND:20260409T104000Z
SUMMARY:Теория автоматического управления
LOCATION:НИК В2.15
END:VEVENT
END:VCALENDAR