BEGIN:VCALENDAR
VERSION:2.0
PRODID:-//spbstu.ru//ical//RU
NAME:Расписание
X-WR-CALNAME:Расписание
TIMEZONE-ID:Europe/Moscow
X-WR-TIMEZONE:Europe/Moscow
BEGIN:VEVENT
UID:2z0u@192.168.245.71:3006
SEQUENCE:0
DTSTAMP:20260421T233944Z
DTSTART:20260217T064000Z
DTEND:20260217T085500Z
SUMMARY:Основы мастерства
LOCATION:ГЗ 301 А
END:VEVENT
BEGIN:VEVENT
UID:xo9u@192.168.245.71:3006
SEQUENCE:0
DTSTAMP:20260421T233944Z
DTSTART:20260217T090000Z
DTEND:20260217T113000Z
SUMMARY:Основы мастерства
LOCATION:ГЗ 301 А
END:VEVENT
BEGIN:VEVENT
UID:hdqe@192.168.245.71:3006
SEQUENCE:0
DTSTAMP:20260421T233944Z
DTSTART:20260217T120000Z
DTEND:20260217T143000Z
SUMMARY:Основы мастерства
LOCATION:ГЗ 301 А
END:VEVENT
BEGIN:VEVENT
UID:szhj@192.168.245.71:3006
SEQUENCE:0
DTSTAMP:20260421T233944Z
DTSTART:20260219T063000Z
DTEND:20260219T085000Z
SUMMARY:Основы мастерства
LOCATION:ГЗ 301 А
END:VEVENT
BEGIN:VEVENT
UID:jy0n@192.168.245.71:3006
SEQUENCE:0
DTSTAMP:20260421T233944Z
DTSTART:20260219T090000Z
DTEND:20260219T104000Z
SUMMARY:Мультимедийные технологии в дизайне
LOCATION:ГЗ 301 А
END:VEVENT
END:VCALENDAR