BEGIN:VCALENDAR
VERSION:2.0
PRODID:-//spbstu.ru//ical//RU
NAME:Расписание
X-WR-CALNAME:Расписание
TIMEZONE-ID:Europe/Moscow
X-WR-TIMEZONE:Europe/Moscow
BEGIN:VEVENT
UID:73bb@192.168.245.71:3006
SEQUENCE:0
DTSTAMP:20260422T055602Z
DTSTART:20260203T064000Z
DTEND:20260203T085500Z
SUMMARY:Основы мастерства
LOCATION:ГЗ 301 А
END:VEVENT
BEGIN:VEVENT
UID:mybl@192.168.245.71:3006
SEQUENCE:0
DTSTAMP:20260422T055602Z
DTSTART:20260203T090000Z
DTEND:20260203T113000Z
SUMMARY:Основы мастерства
LOCATION:ГЗ 301 А
END:VEVENT
BEGIN:VEVENT
UID:pjmz@192.168.245.71:3006
SEQUENCE:0
DTSTAMP:20260422T055602Z
DTSTART:20260203T120000Z
DTEND:20260203T143000Z
SUMMARY:Основы мастерства
LOCATION:ГЗ 301 А
END:VEVENT
BEGIN:VEVENT
UID:logt@192.168.245.71:3006
SEQUENCE:0
DTSTAMP:20260422T055602Z
DTSTART:20260205T063000Z
DTEND:20260205T085000Z
SUMMARY:Основы мастерства
LOCATION:ГЗ 301 А
END:VEVENT
BEGIN:VEVENT
UID:9czc@192.168.245.71:3006
SEQUENCE:0
DTSTAMP:20260422T055602Z
DTSTART:20260205T090000Z
DTEND:20260205T104000Z
SUMMARY:Мультимедийные технологии в дизайне
LOCATION:ГЗ 301 А
END:VEVENT
END:VCALENDAR