BEGIN:VCALENDAR
VERSION:2.0
PRODID:-//spbstu.ru//ical//RU
NAME:Расписание
X-WR-CALNAME:Расписание
TIMEZONE-ID:Europe/Moscow
X-WR-TIMEZONE:Europe/Moscow
BEGIN:VEVENT
UID:w9h4@192.168.245.71:3006
SEQUENCE:0
DTSTAMP:20260424T112431Z
DTSTART:20251027T070000Z
DTEND:20251027T084000Z
SUMMARY:Водоснабжение и водоотведение
LOCATION:ГЗ 257
END:VEVENT
BEGIN:VEVENT
UID:epnj@192.168.245.71:3006
SEQUENCE:0
DTSTAMP:20260424T112431Z
DTSTART:20251028T090000Z
DTEND:20251028T104000Z
SUMMARY:Водоснабжение и водоотведение
LOCATION:ГК 123б
END:VEVENT
BEGIN:VEVENT
UID:zlwm@192.168.245.71:3006
SEQUENCE:0
DTSTAMP:20260424T112431Z
DTSTART:20251028T110000Z
DTEND:20251028T124000Z
SUMMARY:Водоснабжение и водоотведение
LOCATION:ГК 123б
END:VEVENT
BEGIN:VEVENT
UID:b91w@192.168.245.71:3006
SEQUENCE:0
DTSTAMP:20260424T112431Z
DTSTART:20251029T070000Z
DTEND:20251029T084000Z
SUMMARY:Водоснабжение и водоотведение
LOCATION:ГК 123б
END:VEVENT
BEGIN:VEVENT
UID:5958@192.168.245.71:3006
SEQUENCE:0
DTSTAMP:20260424T112431Z
DTSTART:20251029T090000Z
DTEND:20251029T104000Z
SUMMARY:Водоснабжение и водоотведение
LOCATION:ГК 123б
END:VEVENT
BEGIN:VEVENT
UID:razk@192.168.245.71:3006
SEQUENCE:0
DTSTAMP:20260424T112431Z
DTSTART:20251030T070000Z
DTEND:20251030T084000Z
SUMMARY:Теплогазоснабжение с основами теплотехники
LOCATION:ГК-2 412
END:VEVENT
BEGIN:VEVENT
UID:jd5f@192.168.245.71:3006
SEQUENCE:0
DTSTAMP:20260424T112431Z
DTSTART:20251030T153000Z
DTEND:20251030T171000Z
SUMMARY:Водоснабжение и водоотведение
LOCATION:ГК 123б
END:VEVENT
BEGIN:VEVENT
UID:l70i@192.168.245.71:3006
SEQUENCE:0
DTSTAMP:20260424T112431Z
DTSTART:20251030T171500Z
DTEND:20251030T185500Z
SUMMARY:Водоснабжение и водоотведение
LOCATION:ГК 123б
END:VEVENT
BEGIN:VEVENT
UID:af78@192.168.245.71:3006
SEQUENCE:0
DTSTAMP:20260424T112431Z
DTSTART:20251031T090000Z
DTEND:20251031T104000Z
SUMMARY:Водоснабжение и водоотведение
LOCATION:ГК-2 507
END:VEVENT
END:VCALENDAR