BEGIN:VCALENDAR
VERSION:2.0
PRODID:-//spbstu.ru//ical//RU
NAME:Расписание
X-WR-CALNAME:Расписание
TIMEZONE-ID:Europe/Moscow
X-WR-TIMEZONE:Europe/Moscow
BEGIN:VEVENT
UID:6h95@192.168.245.71:3006
SEQUENCE:0
DTSTAMP:20260425T034957Z
DTSTART:20250909T070000Z
DTEND:20250909T084000Z
SUMMARY:Теплогазоснабжение с основами теплотехники
LOCATION:ГК 123б
END:VEVENT
BEGIN:VEVENT
UID:uau8@192.168.245.71:3006
SEQUENCE:0
DTSTAMP:20260425T034957Z
DTSTART:20250909T090000Z
DTEND:20250909T104000Z
SUMMARY:Водоснабжение и водоотведение
LOCATION:ГК 123б
END:VEVENT
BEGIN:VEVENT
UID:93ij@192.168.245.71:3006
SEQUENCE:0
DTSTAMP:20260425T034957Z
DTSTART:20250909T110000Z
DTEND:20250909T124000Z
SUMMARY:Водоснабжение и водоотведение
LOCATION:ГК 123б
END:VEVENT
BEGIN:VEVENT
UID:u443@192.168.245.71:3006
SEQUENCE:0
DTSTAMP:20260425T034957Z
DTSTART:20250910T070000Z
DTEND:20250910T084000Z
SUMMARY:Водоснабжение и водоотведение
LOCATION:ГК 123б
END:VEVENT
BEGIN:VEVENT
UID:h0ui@192.168.245.71:3006
SEQUENCE:0
DTSTAMP:20260425T034957Z
DTSTART:20250910T090000Z
DTEND:20250910T104000Z
SUMMARY:Водоснабжение и водоотведение
LOCATION:ГК 123б
END:VEVENT
BEGIN:VEVENT
UID:zft8@192.168.245.71:3006
SEQUENCE:0
DTSTAMP:20260425T034957Z
DTSTART:20250911T070000Z
DTEND:20250911T084000Z
SUMMARY:Теплогазоснабжение с основами теплотехники
LOCATION:ГК-2 502
END:VEVENT
BEGIN:VEVENT
UID:gaot@192.168.245.71:3006
SEQUENCE:0
DTSTAMP:20260425T034957Z
DTSTART:20250912T090000Z
DTEND:20250912T104000Z
SUMMARY:Водоснабжение и водоотведение
LOCATION:ГК-2 507
END:VEVENT
END:VCALENDAR