BEGIN:VCALENDAR
VERSION:2.0
PRODID:-//spbstu.ru//ical//RU
NAME:Расписание
X-WR-CALNAME:Расписание
TIMEZONE-ID:Europe/Moscow
X-WR-TIMEZONE:Europe/Moscow
BEGIN:VEVENT
UID:yyeb@192.168.245.71:3006
SEQUENCE:0
DTSTAMP:20260421T143720Z
DTSTART:20260504T090000Z
DTEND:20260504T104000Z
SUMMARY:Теплогазоснабжение с основами теплотехники
LOCATION:ГК-2 509
END:VEVENT
BEGIN:VEVENT
UID:v7jj@192.168.245.71:3006
SEQUENCE:0
DTSTAMP:20260421T143720Z
DTSTART:20260505T070000Z
DTEND:20260505T084000Z
SUMMARY:Теплогазоснабжение с основами теплотехники
LOCATION:ГК-2 405
END:VEVENT
END:VCALENDAR