BEGIN:VCALENDAR
VERSION:2.0
PRODID:-//spbstu.ru//ical//RU
NAME:Расписание
X-WR-CALNAME:Расписание
TIMEZONE-ID:Europe/Moscow
X-WR-TIMEZONE:Europe/Moscow
BEGIN:VEVENT
UID:1vux@192.168.245.71:3006
SEQUENCE:0
DTSTAMP:20260424T123447Z
DTSTART:20251112T110000Z
DTEND:20251112T124000Z
SUMMARY:Основы цифровых технологий
LOCATION:ГК-2 210
END:VEVENT
BEGIN:VEVENT
UID:tve3@192.168.245.71:3006
SEQUENCE:0
DTSTAMP:20260424T123447Z
DTSTART:20251112T130000Z
DTEND:20251112T144000Z
SUMMARY:Основы цифровых технологий
LOCATION:ГК-2 210
END:VEVENT
BEGIN:VEVENT
UID:gel0@192.168.245.71:3006
SEQUENCE:0
DTSTAMP:20260424T123447Z
DTSTART:20251112T153000Z
DTEND:20251112T171000Z
SUMMARY:Основы цифровых технологий
LOCATION:ГК-2 305
END:VEVENT
BEGIN:VEVENT
UID:0yug@192.168.245.71:3006
SEQUENCE:0
DTSTAMP:20260424T123447Z
DTSTART:20251114T090000Z
DTEND:20251114T104000Z
SUMMARY:Основы цифровых технологий
LOCATION:ГК-2 402
END:VEVENT
END:VCALENDAR