BEGIN:VCALENDAR
VERSION:2.0
PRODID:-//spbstu.ru//ical//RU
NAME:Расписание
X-WR-CALNAME:Расписание
TIMEZONE-ID:Europe/Moscow
X-WR-TIMEZONE:Europe/Moscow
BEGIN:VEVENT
UID:wyzq@192.168.245.71:3006
SEQUENCE:0
DTSTAMP:20260424T090137Z
DTSTART:20251126T110000Z
DTEND:20251126T124000Z
SUMMARY:Основы цифровых технологий
LOCATION:ГК-2 210
END:VEVENT
BEGIN:VEVENT
UID:uqio@192.168.245.71:3006
SEQUENCE:0
DTSTAMP:20260424T090137Z
DTSTART:20251126T130000Z
DTEND:20251126T144000Z
SUMMARY:Основы цифровых технологий
LOCATION:ГК-2 210
END:VEVENT
BEGIN:VEVENT
UID:kcia@192.168.245.71:3006
SEQUENCE:0
DTSTAMP:20260424T090137Z
DTSTART:20251126T153000Z
DTEND:20251126T171000Z
SUMMARY:Основы цифровых технологий
LOCATION:ГК-2 305
END:VEVENT
BEGIN:VEVENT
UID:5hhi@192.168.245.71:3006
SEQUENCE:0
DTSTAMP:20260424T090137Z
DTSTART:20251128T090000Z
DTEND:20251128T104000Z
SUMMARY:Основы цифровых технологий
LOCATION:ГК-2 402
END:VEVENT
END:VCALENDAR