BEGIN:VCALENDAR
VERSION:2.0
PRODID:-//spbstu.ru//ical//RU
NAME:Расписание
X-WR-CALNAME:Расписание
TIMEZONE-ID:Europe/Moscow
X-WR-TIMEZONE:Europe/Moscow
BEGIN:VEVENT
UID:9gbi@192.168.245.71:3006
SEQUENCE:0
DTSTAMP:20260425T133018Z
DTSTART:20250917T050000Z
DTEND:20250917T064000Z
SUMMARY:Медиарилейшнз и оценка эффективности PR-деятельности
LOCATION:16 к. 209
END:VEVENT
BEGIN:VEVENT
UID:iwds@192.168.245.71:3006
SEQUENCE:0
DTSTAMP:20260425T133018Z
DTSTART:20250917T070000Z
DTEND:20250917T084000Z
SUMMARY:Медиарилейшнз и оценка эффективности PR-деятельности
LOCATION:16 к. 209
END:VEVENT
BEGIN:VEVENT
UID:0a6z@192.168.245.71:3006
SEQUENCE:0
DTSTAMP:20260425T133018Z
DTSTART:20250917T090000Z
DTEND:20250917T104000Z
SUMMARY:Медиарилейшнз и оценка эффективности PR-деятельности
LOCATION:16 к. 400
END:VEVENT
BEGIN:VEVENT
UID:qnwd@192.168.245.71:3006
SEQUENCE:0
DTSTAMP:20260425T133018Z
DTSTART:20250917T110000Z
DTEND:20250917T124000Z
SUMMARY:Медиарилейшнз и оценка эффективности PR-деятельности
LOCATION:16 к. 209
END:VEVENT
BEGIN:VEVENT
UID:414r@192.168.245.71:3006
SEQUENCE:0
DTSTAMP:20260425T133018Z
DTSTART:20250918T150000Z
DTEND:20250918T164000Z
SUMMARY:Теория коммуникации
LOCATION:16 к. 211
END:VEVENT
BEGIN:VEVENT
UID:ht8e@192.168.245.71:3006
SEQUENCE:0
DTSTAMP:20260425T133018Z
DTSTART:20250918T150000Z
DTEND:20250918T164000Z
SUMMARY:Образовательный форсайт
LOCATION:16 к. 211
END:VEVENT
BEGIN:VEVENT
UID:w7gd@192.168.245.71:3006
SEQUENCE:0
DTSTAMP:20260425T133018Z
DTSTART:20250918T150000Z
DTEND:20250918T164000Z
SUMMARY:Образовательный форсайт
LOCATION:16 к. 211
END:VEVENT
END:VCALENDAR