BEGIN:VCALENDAR
VERSION:2.0
PRODID:-//spbstu.ru//ical//RU
NAME:Расписание
X-WR-CALNAME:Расписание
TIMEZONE-ID:Europe/Moscow
X-WR-TIMEZONE:Europe/Moscow
BEGIN:VEVENT
UID:u66y@192.168.245.71:3006
SEQUENCE:0
DTSTAMP:20260422T104438Z
DTSTART:20260217T090000Z
DTEND:20260217T104000Z
SUMMARY:Теория коммуникации
LOCATION:16 к. 214
END:VEVENT
BEGIN:VEVENT
UID:y621@192.168.245.71:3006
SEQUENCE:0
DTSTAMP:20260422T104438Z
DTSTART:20260217T110000Z
DTEND:20260217T124000Z
SUMMARY:Теория коммуникации
LOCATION:16 к. 400
END:VEVENT
BEGIN:VEVENT
UID:ctji@192.168.245.71:3006
SEQUENCE:0
DTSTAMP:20260422T104438Z
DTSTART:20260217T130000Z
DTEND:20260217T134500Z
SUMMARY:Образовательный форсайт
LOCATION:16 к. 210
END:VEVENT
BEGIN:VEVENT
UID:qfyf@192.168.245.71:3006
SEQUENCE:0
DTSTAMP:20260422T104438Z
DTSTART:20260217T130000Z
DTEND:20260217T142000Z
SUMMARY:Медиарилейшнз и оценка эффективности PR-деятельности
LOCATION:16 к. 210
END:VEVENT
BEGIN:VEVENT
UID:4dzv@192.168.245.71:3006
SEQUENCE:0
DTSTAMP:20260422T104438Z
DTSTART:20260218T050000Z
DTEND:20260218T064000Z
SUMMARY:Теория коммуникации
LOCATION:16 к. 211
END:VEVENT
BEGIN:VEVENT
UID:q87y@192.168.245.71:3006
SEQUENCE:0
DTSTAMP:20260422T104438Z
DTSTART:20260218T070000Z
DTEND:20260218T084000Z
SUMMARY:Теория коммуникации
LOCATION:16 к. 211
END:VEVENT
BEGIN:VEVENT
UID:1b9v@192.168.245.71:3006
SEQUENCE:0
DTSTAMP:20260422T104438Z
DTSTART:20260218T090000Z
DTEND:20260218T104000Z
SUMMARY:Теория коммуникации
LOCATION:16 к. 211
END:VEVENT
END:VCALENDAR