BEGIN:VCALENDAR
VERSION:2.0
PRODID:-//spbstu.ru//ical//RU
NAME:Расписание
X-WR-CALNAME:Расписание
TIMEZONE-ID:Europe/Moscow
X-WR-TIMEZONE:Europe/Moscow
BEGIN:VEVENT
UID:ghwr@192.168.245.71:3006
SEQUENCE:0
DTSTAMP:20260421T215136Z
DTSTART:20260224T090000Z
DTEND:20260224T104000Z
SUMMARY:Теория коммуникации
LOCATION:16 к. 214
END:VEVENT
BEGIN:VEVENT
UID:wul5@192.168.245.71:3006
SEQUENCE:0
DTSTAMP:20260421T215136Z
DTSTART:20260224T110000Z
DTEND:20260224T124000Z
SUMMARY:Теория и практика массовой информации
LOCATION:16 к. 200
END:VEVENT
END:VCALENDAR