BEGIN:VCALENDAR
VERSION:2.0
PRODID:-//spbstu.ru//ical//RU
NAME:Расписание
X-WR-CALNAME:Расписание
TIMEZONE-ID:Europe/Moscow
X-WR-TIMEZONE:Europe/Moscow
BEGIN:VEVENT
UID:tm0e@192.168.245.71:3006
SEQUENCE:0
DTSTAMP:20260425T230805Z
DTSTART:20260213T130000Z
DTEND:20260213T140000Z
SUMMARY:Бережливое строительство
LOCATION:ГК-2 407
END:VEVENT
END:VCALENDAR