BEGIN:VCALENDAR
VERSION:2.0
PRODID:-//spbstu.ru//ical//RU
NAME:Расписание
X-WR-CALNAME:Расписание
TIMEZONE-ID:Europe/Moscow
X-WR-TIMEZONE:Europe/Moscow
BEGIN:VEVENT
UID:nlju@192.168.245.71:3006
SEQUENCE:0
DTSTAMP:20260421T182327Z
DTSTART:20260401T090000Z
DTEND:20260401T104000Z
SUMMARY:Теоретическая механика
LOCATION:ГК-2 314
END:VEVENT
BEGIN:VEVENT
UID:b6my@192.168.245.71:3006
SEQUENCE:0
DTSTAMP:20260421T182327Z
DTSTART:20260401T110000Z
DTEND:20260401T124000Z
SUMMARY:Теоретическая механика
LOCATION:ГК-2 314
END:VEVENT
BEGIN:VEVENT
UID:1b79@192.168.245.71:3006
SEQUENCE:0
DTSTAMP:20260421T182327Z
DTSTART:20260401T130000Z
DTEND:20260401T144000Z
SUMMARY:Теоретическая механика
LOCATION:ГК-2 314
END:VEVENT
BEGIN:VEVENT
UID:cz02@192.168.245.71:3006
SEQUENCE:0
DTSTAMP:20260421T182327Z
DTSTART:20260402T090000Z
DTEND:20260402T104000Z
SUMMARY:Теоретическая механика
LOCATION:ГК-2 313
END:VEVENT
BEGIN:VEVENT
UID:fobt@192.168.245.71:3006
SEQUENCE:0
DTSTAMP:20260421T182327Z
DTSTART:20260402T110000Z
DTEND:20260402T124000Z
SUMMARY:Теоретическая механика
LOCATION:ГК-2 313
END:VEVENT
END:VCALENDAR