BEGIN:VCALENDAR
VERSION:2.0
PRODID:-//spbstu.ru//ical//RU
NAME:Расписание
X-WR-CALNAME:Расписание
TIMEZONE-ID:Europe/Moscow
X-WR-TIMEZONE:Europe/Moscow
BEGIN:VEVENT
UID:2kng@192.168.245.71:3006
SEQUENCE:0
DTSTAMP:20260421T101201Z
DTSTART:20260506T090000Z
DTEND:20260506T104000Z
SUMMARY:Теоретическая механика
LOCATION:ГК-2 314
END:VEVENT
BEGIN:VEVENT
UID:ieeh@192.168.245.71:3006
SEQUENCE:0
DTSTAMP:20260421T101201Z
DTSTART:20260506T110000Z
DTEND:20260506T124000Z
SUMMARY:Теоретическая механика
LOCATION:ГК-2 314
END:VEVENT
BEGIN:VEVENT
UID:i4sc@192.168.245.71:3006
SEQUENCE:0
DTSTAMP:20260421T101201Z
DTSTART:20260506T130000Z
DTEND:20260506T144000Z
SUMMARY:Теоретическая механика
LOCATION:ГК-2 314
END:VEVENT
BEGIN:VEVENT
UID:48rz@192.168.245.71:3006
SEQUENCE:0
DTSTAMP:20260421T101201Z
DTSTART:20260507T090000Z
DTEND:20260507T104000Z
SUMMARY:Теоретическая механика
LOCATION:ГК-2 313
END:VEVENT
BEGIN:VEVENT
UID:1ywm@192.168.245.71:3006
SEQUENCE:0
DTSTAMP:20260421T101201Z
DTSTART:20260507T110000Z
DTEND:20260507T124000Z
SUMMARY:Теоретическая механика
LOCATION:ГК-2 313
END:VEVENT
END:VCALENDAR