BEGIN:VCALENDAR
VERSION:2.0
PRODID:-//spbstu.ru//ical//RU
NAME:Расписание
X-WR-CALNAME:Расписание
TIMEZONE-ID:Europe/Moscow
X-WR-TIMEZONE:Europe/Moscow
BEGIN:VEVENT
UID:ofuq@192.168.245.71:3006
SEQUENCE:0
DTSTAMP:20260424T084504Z
DTSTART:20251201T130000Z
DTEND:20251201T144000Z
SUMMARY:Механика грунтов
LOCATION:ГК-2 315
END:VEVENT
BEGIN:VEVENT
UID:n83r@192.168.245.71:3006
SEQUENCE:0
DTSTAMP:20260424T084504Z
DTSTART:20251202T090000Z
DTEND:20251202T104000Z
SUMMARY:Механика грунтов
LOCATION:ГК-2 315
END:VEVENT
BEGIN:VEVENT
UID:v0v5@192.168.245.71:3006
SEQUENCE:0
DTSTAMP:20260424T084504Z
DTSTART:20251202T130000Z
DTEND:20251202T144000Z
SUMMARY:Механика грунтов
LOCATION:ГК-2 315
END:VEVENT
BEGIN:VEVENT
UID:bbpo@192.168.245.71:3006
SEQUENCE:0
DTSTAMP:20260424T084504Z
DTSTART:20251203T070000Z
DTEND:20251203T084000Z
SUMMARY:Механика грунтов
LOCATION:ГК-2 315
END:VEVENT
BEGIN:VEVENT
UID:r25d@192.168.245.71:3006
SEQUENCE:0
DTSTAMP:20260424T084504Z
DTSTART:20251203T090000Z
DTEND:20251203T104000Z
SUMMARY:Механика грунтов
LOCATION:ГК-2 315
END:VEVENT
BEGIN:VEVENT
UID:y837@192.168.245.71:3006
SEQUENCE:0
DTSTAMP:20260424T084504Z
DTSTART:20251205T070000Z
DTEND:20251205T084000Z
SUMMARY:Основания и фундаменты
LOCATION:ГК-2 315
END:VEVENT
END:VCALENDAR