BEGIN:VCALENDAR
VERSION:2.0
PRODID:-//spbstu.ru//ical//RU
NAME:Расписание
X-WR-CALNAME:Расписание
TIMEZONE-ID:Europe/Moscow
X-WR-TIMEZONE:Europe/Moscow
BEGIN:VEVENT
UID:6o87@192.168.245.71:3006
SEQUENCE:0
DTSTAMP:20260424T050302Z
DTSTART:20251224T090000Z
DTEND:20251224T094500Z
SUMMARY:Математические методы в инженерии
LOCATION:1 к. кафедра Автоматы
END:VEVENT
BEGIN:VEVENT
UID:xsuu@192.168.245.71:3006
SEQUENCE:0
DTSTAMP:20260424T050302Z
DTSTART:20251224T090000Z
DTEND:20251224T094500Z
SUMMARY:Математические методы в инженерии
LOCATION:1 к. кафедра Автоматы
END:VEVENT
BEGIN:VEVENT
UID:x41y@192.168.245.71:3006
SEQUENCE:0
DTSTAMP:20260424T050302Z
DTSTART:20251224T100000Z
DTEND:20251224T130000Z
SUMMARY:Математические методы в инженерии
LOCATION:1 к. кафедра Автоматы
END:VEVENT
BEGIN:VEVENT
UID:hgat@192.168.245.71:3006
SEQUENCE:0
DTSTAMP:20260424T050302Z
DTSTART:20251225T090000Z
DTEND:20251225T120000Z
SUMMARY:Математические методы в инженерии
LOCATION:1 к. кафедра Автоматы
END:VEVENT
END:VCALENDAR