BEGIN:VCALENDAR
VERSION:2.0
PRODID:-//spbstu.ru//ical//RU
NAME:Расписание
X-WR-CALNAME:Расписание
TIMEZONE-ID:Europe/Moscow
X-WR-TIMEZONE:Europe/Moscow
BEGIN:VEVENT
UID:2kva@192.168.245.71:3006
SEQUENCE:0
DTSTAMP:20260423T144954Z
DTSTART:20251210T070000Z
DTEND:20251210T084000Z
SUMMARY:Технология автоматизированного производства
LOCATION:1 к. 413
END:VEVENT
BEGIN:VEVENT
UID:hxcy@192.168.245.71:3006
SEQUENCE:0
DTSTAMP:20260423T144954Z
DTSTART:20251210T070000Z
DTEND:20251210T084000Z
SUMMARY:Технология автоматизированного производства
LOCATION:1 к. 413
END:VEVENT
BEGIN:VEVENT
UID:5o8h@192.168.245.71:3006
SEQUENCE:0
DTSTAMP:20260423T144954Z
DTSTART:20251210T090000Z
DTEND:20251210T104000Z
SUMMARY:Технология автоматизированного производства
LOCATION:1 к. кафедра Автоматы
END:VEVENT
BEGIN:VEVENT
UID:jwe2@192.168.245.71:3006
SEQUENCE:0
DTSTAMP:20260423T144954Z
DTSTART:20251210T110000Z
DTEND:20251210T124000Z
SUMMARY:Современные тенденции развития автоматизированного производства
LOCATION:1 к. кафедра Автоматы
END:VEVENT
END:VCALENDAR