BEGIN:VCALENDAR
VERSION:2.0
PRODID:-//spbstu.ru//ical//RU
NAME:Расписание
X-WR-CALNAME:Расписание
TIMEZONE-ID:Europe/Moscow
X-WR-TIMEZONE:Europe/Moscow
BEGIN:VEVENT
UID:z6ue@192.168.245.71:3006
SEQUENCE:0
DTSTAMP:20260423T011234Z
DTSTART:20260115T070000Z
DTEND:20260115T080000Z
SUMMARY:Технология автоматизированного производства
LOCATION:1 к. кафедра Автоматы
END:VEVENT
BEGIN:VEVENT
UID:qnln@192.168.245.71:3006
SEQUENCE:0
DTSTAMP:20260423T011234Z
DTSTART:20260115T070000Z
DTEND:20260115T074500Z
SUMMARY:Технология автоматизированного производства
LOCATION:1 к. кафедра Автоматы
END:VEVENT
BEGIN:VEVENT
UID:7771@192.168.245.71:3006
SEQUENCE:0
DTSTAMP:20260423T011234Z
DTSTART:20260116T070000Z
DTEND:20260116T110000Z
SUMMARY:Технология автоматизированного производства
LOCATION:1 к. кафедра Автоматы
END:VEVENT
BEGIN:VEVENT
UID:gzjj@192.168.245.71:3006
SEQUENCE:0
DTSTAMP:20260423T011234Z
DTSTART:20260116T110000Z
DTEND:20260116T140000Z
SUMMARY:Технология автоматизированного производства
LOCATION:1 к. кафедра Автоматы
END:VEVENT
END:VCALENDAR