BEGIN:VCALENDAR
VERSION:2.0
PRODID:-//spbstu.ru//ical//RU
NAME:Расписание
X-WR-CALNAME:Расписание
TIMEZONE-ID:Europe/Moscow
X-WR-TIMEZONE:Europe/Moscow
BEGIN:VEVENT
UID:7p4z@192.168.245.71:3006
SEQUENCE:0
DTSTAMP:20260423T151209Z
DTSTART:20251215T070000Z
DTEND:20251215T084000Z
SUMMARY:Элементная база интеллектуальных производственных систем
LOCATION:1 к. кафедра Автоматы
END:VEVENT
BEGIN:VEVENT
UID:htlx@192.168.245.71:3006
SEQUENCE:0
DTSTAMP:20260423T151209Z
DTSTART:20251216T110000Z
DTEND:20251216T124000Z
SUMMARY:Элементная база мехатроники и робототехники
LOCATION:1 к. 425
END:VEVENT
BEGIN:VEVENT
UID:7y0r@192.168.245.71:3006
SEQUENCE:0
DTSTAMP:20260423T151209Z
DTSTART:20251218T070000Z
DTEND:20251218T074500Z
SUMMARY:Проектирование машиностроительного производства
LOCATION:1 к. кафедра Автоматы
END:VEVENT
BEGIN:VEVENT
UID:rmkx@192.168.245.71:3006
SEQUENCE:0
DTSTAMP:20260423T151209Z
DTSTART:20251218T080000Z
DTEND:20251218T110000Z
SUMMARY:Проектирование машиностроительного производства
LOCATION:1 к. кафедра Автоматы
END:VEVENT
BEGIN:VEVENT
UID:y6mc@192.168.245.71:3006
SEQUENCE:0
DTSTAMP:20260423T151209Z
DTSTART:20251218T130000Z
DTEND:20251218T134500Z
SUMMARY:Элементная база автоматизированных технологических машин и оборудо
 вания
LOCATION:1 к. кафедра Автоматы
END:VEVENT
BEGIN:VEVENT
UID:55yq@192.168.245.71:3006
SEQUENCE:0
DTSTAMP:20260423T151209Z
DTSTART:20251219T070000Z
DTEND:20251219T100000Z
SUMMARY:Элементная база автоматизированных технологических машин и оборудо
 вания
LOCATION:1 к. кафедра Автоматы
END:VEVENT
BEGIN:VEVENT
UID:1mwp@192.168.245.71:3006
SEQUENCE:0
DTSTAMP:20260423T151209Z
DTSTART:20251219T110000Z
DTEND:20251219T114500Z
SUMMARY:Элементная база мехатроники и робототехники
LOCATION:1 к. кафедра Автоматы
END:VEVENT
BEGIN:VEVENT
UID:dl64@192.168.245.71:3006
SEQUENCE:0
DTSTAMP:20260423T151209Z
DTSTART:20251219T110000Z
DTEND:20251219T114500Z
SUMMARY:Элементная база автоматизированных технологических машин и оборудо
 вания
LOCATION:1 к. кафедра Автоматы
END:VEVENT
BEGIN:VEVENT
UID:zzc1@192.168.245.71:3006
SEQUENCE:0
DTSTAMP:20260423T151209Z
DTSTART:20251220T070000Z
DTEND:20251220T110000Z
SUMMARY:Элементная база мехатроники и робототехники
LOCATION:1 к. кафедра Автоматы
END:VEVENT
BEGIN:VEVENT
UID:mia0@192.168.245.71:3006
SEQUENCE:0
DTSTAMP:20260423T151209Z
DTSTART:20251220T110000Z
DTEND:20251220T140000Z
SUMMARY:Элементная база автоматизированных технологических машин и оборудо
 вания
LOCATION:1 к. кафедра Автоматы
END:VEVENT
END:VCALENDAR