BEGIN:VCALENDAR
VERSION:2.0
PRODID:-//spbstu.ru//ical//RU
NAME:Расписание
X-WR-CALNAME:Расписание
TIMEZONE-ID:Europe/Moscow
X-WR-TIMEZONE:Europe/Moscow
BEGIN:VEVENT
UID:y3z2@192.168.245.71:3006
SEQUENCE:0
DTSTAMP:20260425T142043Z
DTSTART:20250908T070000Z
DTEND:20250908T084000Z
SUMMARY:Элементная база интеллектуальных производственных систем
LOCATION:1 к. кафедра Автоматы
END:VEVENT
BEGIN:VEVENT
UID:wb0f@192.168.245.71:3006
SEQUENCE:0
DTSTAMP:20260425T142043Z
DTSTART:20250909T110000Z
DTEND:20250909T124000Z
SUMMARY:Элементная база мехатроники и робототехники
LOCATION:1 к. 425
END:VEVENT
BEGIN:VEVENT
UID:697o@192.168.245.71:3006
SEQUENCE:0
DTSTAMP:20260425T142043Z
DTSTART:20250911T090000Z
DTEND:20250911T104000Z
SUMMARY:Элементная база интеллектуальных производственных систем
LOCATION:1 к. кафедра Автоматы
END:VEVENT
BEGIN:VEVENT
UID:hv59@192.168.245.71:3006
SEQUENCE:0
DTSTAMP:20260425T142043Z
DTSTART:20250911T110000Z
DTEND:20250911T124000Z
SUMMARY:Элементная база автоматизированных технологических машин и оборудо
 вания
LOCATION:1 к. 425
END:VEVENT
BEGIN:VEVENT
UID:yhau@192.168.245.71:3006
SEQUENCE:0
DTSTAMP:20260425T142043Z
DTSTART:20250911T130000Z
DTEND:20250911T144000Z
SUMMARY:Проектирование машиностроительного производства
LOCATION:1 к. 425
END:VEVENT
END:VCALENDAR