BEGIN:VCALENDAR
VERSION:2.0
PRODID:-//spbstu.ru//ical//RU
NAME:Расписание
X-WR-CALNAME:Расписание
TIMEZONE-ID:Europe/Moscow
X-WR-TIMEZONE:Europe/Moscow
BEGIN:VEVENT
UID:38cc@192.168.245.71:3006
SEQUENCE:0
DTSTAMP:20260419T174626Z
DTSTART:20251028T090000Z
DTEND:20251028T104000Z
SUMMARY:Научно-исследовательский семинар
LOCATION:НИК Г3.01
END:VEVENT
BEGIN:VEVENT
UID:d6ju@192.168.245.71:3006
SEQUENCE:0
DTSTAMP:20260419T174626Z
DTSTART:20251028T110000Z
DTEND:20251028T124000Z
SUMMARY:Научно-исследовательский семинар
LOCATION:НИК Г3.01
END:VEVENT
BEGIN:VEVENT
UID:ylhc@192.168.245.71:3006
SEQUENCE:0
DTSTAMP:20260419T174626Z
DTSTART:20251028T130000Z
DTEND:20251028T144000Z
SUMMARY:Научно-исследовательский семинар
LOCATION:НИК Г3.01
END:VEVENT
END:VCALENDAR