BEGIN:VCALENDAR
VERSION:2.0
PRODID:-//spbstu.ru//ical//RU
NAME:Расписание
X-WR-CALNAME:Расписание
TIMEZONE-ID:Europe/Moscow
X-WR-TIMEZONE:Europe/Moscow
BEGIN:VEVENT
UID:0fdf@192.168.245.71:3006
SEQUENCE:0
DTSTAMP:20260421T081254Z
DTSTART:20260427T110000Z
DTEND:20260427T124000Z
SUMMARY:Банковский менеджмент (на английском языке)
LOCATION:50 уч.к 1422
END:VEVENT
BEGIN:VEVENT
UID:onm5@192.168.245.71:3006
SEQUENCE:0
DTSTAMP:20260421T081254Z
DTSTART:20260427T130000Z
DTEND:20260427T144000Z
SUMMARY:Банковский менеджмент (на английском языке)
LOCATION:50 уч.к 1422
END:VEVENT
BEGIN:VEVENT
UID:qe37@192.168.245.71:3006
SEQUENCE:0
DTSTAMP:20260421T081254Z
DTSTART:20260427T150000Z
DTEND:20260427T164000Z
SUMMARY:Банковский менеджмент (на английском языке)
LOCATION:50 уч.к 1422
END:VEVENT
BEGIN:VEVENT
UID:05ca@192.168.245.71:3006
SEQUENCE:0
DTSTAMP:20260421T081254Z
DTSTART:20260427T170000Z
DTEND:20260427T184000Z
SUMMARY:Банковский менеджмент (на английском языке)
LOCATION:50 уч.к 1422
END:VEVENT
BEGIN:VEVENT
UID:hiyr@192.168.245.71:3006
SEQUENCE:0
DTSTAMP:20260421T081254Z
DTSTART:20260430T110000Z
DTEND:20260430T124000Z
SUMMARY:Банковское кредитование (на английском языке)
LOCATION:50 уч.к 1325
END:VEVENT
END:VCALENDAR