BEGIN:VCALENDAR
VERSION:2.0
PRODID:-//spbstu.ru//ical//RU
NAME:Расписание
X-WR-CALNAME:Расписание
TIMEZONE-ID:Europe/Moscow
X-WR-TIMEZONE:Europe/Moscow
BEGIN:VEVENT
UID:29wv@192.168.245.71:3006
SEQUENCE:0
DTSTAMP:20260421T123243Z
DTSTART:20260511T110000Z
DTEND:20260511T124000Z
SUMMARY:Банковский менеджмент (на английском языке)
LOCATION:50 уч.к 1422
END:VEVENT
BEGIN:VEVENT
UID:yr5q@192.168.245.71:3006
SEQUENCE:0
DTSTAMP:20260421T123243Z
DTSTART:20260511T130000Z
DTEND:20260511T144000Z
SUMMARY:Банковский менеджмент (на английском языке)
LOCATION:50 уч.к 1422
END:VEVENT
BEGIN:VEVENT
UID:n82w@192.168.245.71:3006
SEQUENCE:0
DTSTAMP:20260421T123243Z
DTSTART:20260511T150000Z
DTEND:20260511T164000Z
SUMMARY:Банковский менеджмент (на английском языке)
LOCATION:50 уч.к 1422
END:VEVENT
BEGIN:VEVENT
UID:dtok@192.168.245.71:3006
SEQUENCE:0
DTSTAMP:20260421T123243Z
DTSTART:20260511T170000Z
DTEND:20260511T184000Z
SUMMARY:Банковский менеджмент (на английском языке)
LOCATION:50 уч.к 1422
END:VEVENT
BEGIN:VEVENT
UID:26zx@192.168.245.71:3006
SEQUENCE:0
DTSTAMP:20260421T123243Z
DTSTART:20260514T110000Z
DTEND:20260514T124000Z
SUMMARY:Банковское кредитование (на английском языке)
LOCATION:50 уч.к 1325
END:VEVENT
BEGIN:VEVENT
UID:q9ho@192.168.245.71:3006
SEQUENCE:0
DTSTAMP:20260421T123243Z
DTSTART:20260514T130000Z
DTEND:20260514T144000Z
SUMMARY:Банковское кредитование (на английском языке)
LOCATION:50 уч.к 1325
END:VEVENT
END:VCALENDAR