BEGIN:VCALENDAR
VERSION:2.0
PRODID:-//spbstu.ru//ical//RU
NAME:Расписание
X-WR-CALNAME:Расписание
TIMEZONE-ID:Europe/Moscow
X-WR-TIMEZONE:Europe/Moscow
BEGIN:VEVENT
UID:sozt@192.168.245.71:3006
SEQUENCE:0
DTSTAMP:20260420T230821Z
DTSTART:20260403T090000Z
DTEND:20260403T104000Z
SUMMARY:Теория надежности энергетических машин
LOCATION:НПО ЦКТИ Учебный класс
END:VEVENT
BEGIN:VEVENT
UID:oijz@192.168.245.71:3006
SEQUENCE:0
DTSTAMP:20260420T230821Z
DTSTART:20260403T110000Z
DTEND:20260403T124000Z
SUMMARY:Теория надежности энергетических машин
LOCATION:НПО ЦКТИ Учебный класс
END:VEVENT
END:VCALENDAR