BEGIN:VCALENDAR
VERSION:2.0
PRODID:-//spbstu.ru//ical//RU
NAME:Расписание
X-WR-CALNAME:Расписание
TIMEZONE-ID:Europe/Moscow
X-WR-TIMEZONE:Europe/Moscow
BEGIN:VEVENT
UID:kb2y@192.168.245.71:3006
SEQUENCE:0
DTSTAMP:20260422T081536Z
DTSTART:20260228T080000Z
DTEND:20260228T085000Z
SUMMARY:Автоматическая обработка текста
LOCATION:9 к. 210
END:VEVENT
BEGIN:VEVENT
UID:uvvz@192.168.245.71:3006
SEQUENCE:0
DTSTAMP:20260422T081536Z
DTSTART:20260228T080000Z
DTEND:20260228T084000Z
SUMMARY:Управление научным проектом
LOCATION:9 к. 210
END:VEVENT
BEGIN:VEVENT
UID:10sd@192.168.245.71:3006
SEQUENCE:0
DTSTAMP:20260422T081536Z
DTSTART:20260228T110000Z
DTEND:20260228T124000Z
SUMMARY:Проектная деятельность
LOCATION:9 к. 210
END:VEVENT
END:VCALENDAR