BEGIN:VCALENDAR
VERSION:2.0
PRODID:-//spbstu.ru//ical//RU
NAME:Расписание
X-WR-CALNAME:Расписание
TIMEZONE-ID:Europe/Moscow
X-WR-TIMEZONE:Europe/Moscow
BEGIN:VEVENT
UID:3xy3@192.168.245.71:3006
SEQUENCE:0
DTSTAMP:20260425T134301Z
DTSTART:20251217T070000Z
DTEND:20251217T090000Z
SUMMARY:Организация работы отделов рекламы и связей с общественностью
LOCATION:DL Дистанционно
END:VEVENT
BEGIN:VEVENT
UID:ca4x@192.168.245.71:3006
SEQUENCE:0
DTSTAMP:20260425T134301Z
DTSTART:20251217T100000Z
DTEND:20251217T114000Z
SUMMARY:Организация работы отделов рекламы и связей с общественностью
LOCATION:DL Дистанционно
END:VEVENT
END:VCALENDAR